BEGIN:VCALENDAR
VERSION:2.0
PRODID:-//Beta //NONSGML Events //EN
CALSCALE:GREGORIAN
X-WR-CALNAME:Beta
BEGIN:VEVENT
CREATED:20250509T092654Z
UID:12752
DTSTART;VALUE=DATE-TIME:20250516T140000
DTEND;VALUE=DATE-TIME:20250516T153000
LOCATION:Salle du Conseil // Online - zoom link
DESCRIPTION:Cournot seminar – Ulrike Neyer (U. de Düsseldorf)
SUMMARY:Cournot seminar – Ulrike Neyer (U. de Düsseldorf)
ORGANIZER:
URL;VALUE=URI:http://www.beta-economics.fr/en/evenements/cournot-seminar-ulrike-neyer-u-de-dusseldorf/
TRANSP:OPAQUE
END:VEVENT


END:VCALENDAR
