BEGIN:VCALENDAR
VERSION:2.0
PRODID:-//Beta //NONSGML Events //EN
CALSCALE:GREGORIAN
X-WR-CALNAME:Beta
BEGIN:VEVENT
CREATED:20260114T101445Z
UID:14027
DTSTART;VALUE=DATE-TIME:20260130T123000
DTEND;VALUE=DATE-TIME:20260130T140000
LOCATION:Salle du Conseil // Online - Zoom link
DESCRIPTION:Cournot seminar – Peter Claeys (Universidad Pontificia Comillas)
SUMMARY:Cournot seminar – Peter Claeys (Universidad Pontificia Comillas)
ORGANIZER:
URL;VALUE=URI:http://www.beta-economics.fr/en/evenements/cournot-seminar-peter-claeys-universidad-pontificia-comillas/
TRANSP:OPAQUE
END:VEVENT


END:VCALENDAR
