BEGIN:VCALENDAR
VERSION:2.0
PRODID:-//Beta //NONSGML Events //EN
CALSCALE:GREGORIAN
X-WR-CALNAME:Beta
BEGIN:VEVENT
CREATED:20250324T091125Z
UID:12409
DTSTART;VALUE=DATE-TIME:20250325T110000
DTEND;VALUE=DATE-TIME:20250325T123000
LOCATION:Maison de la Recherche\, 23 rue Baron Louis\, Nancy
DESCRIPTION:Séminaire NANCY – Arnaud DAYMARD (BETA)
SUMMARY:Séminaire NANCY – Arnaud DAYMARD (BETA)
ORGANIZER:
URL;VALUE=URI:http://www.beta-economics.fr/evenements/seminaire-nancy-arnaud-daymard-beta/
TRANSP:OPAQUE
END:VEVENT


END:VCALENDAR
