BEGIN:VCALENDAR
VERSION:2.0
PRODID:-//Beta //NONSGML Events //EN
CALSCALE:GREGORIAN
X-WR-CALNAME:Beta
BEGIN:VEVENT
CREATED:20251118T154819Z
UID:13694
DTSTART;VALUE=DATE-TIME:20251120T110000
DTEND;VALUE=DATE-TIME:20251120T123000
LOCATION:Campus AgroParisTech\, 14 rue Girardet\, Nancy
DESCRIPTION:Séminaire NANCY – Adrian NIETO CASTRO (Lund University)
SUMMARY:Séminaire NANCY – Adrian NIETO CASTRO (Lund University)
ORGANIZER:
URL;VALUE=URI:http://www.beta-economics.fr/evenements/seminaire-nancy-adrian-nieto-castro-lund-university/
TRANSP:OPAQUE
END:VEVENT


END:VCALENDAR
