BEGIN:VCALENDAR
VERSION:2.0
PRODID:-//Beta //NONSGML Events //EN
CALSCALE:GREGORIAN
X-WR-CALNAME:Beta
BEGIN:VEVENT
CREATED:20251123T194600Z
UID:13711
DTSTART;VALUE=DATE-TIME:20251125T110000
DTEND;VALUE=DATE-TIME:20251125T123000
LOCATION:Campus AgroParisTech\, 14 rue Girardet\, Nancy
DESCRIPTION:Séminaire NANCY – Hervé DAKPO (MSH Paris-Saclay)
SUMMARY:Séminaire NANCY – Hervé DAKPO (MSH Paris-Saclay)
ORGANIZER:
URL;VALUE=URI:http://www.beta-economics.fr/evenements/seminaire-nancy-herve-dakpo-msh-paris-saclay/
TRANSP:OPAQUE
END:VEVENT


END:VCALENDAR
