BEGIN:VCALENDAR
VERSION:2.0
PRODID:-//Beta //NONSGML Events //EN
CALSCALE:GREGORIAN
X-WR-CALNAME:Beta
BEGIN:VEVENT
CREATED:20260113T133201Z
UID:13998
DTSTART;VALUE=DATE-TIME:20260120T160000
DTEND;VALUE=DATE-TIME:20260120T173000
LOCATION:Amphi G\, Campus AgroParisTech Nancy\, 14 rue Girardet
DESCRIPTION:Séminaire doctorants – Marin Guinard
SUMMARY:Séminaire doctorants – Marin Guinard
ORGANIZER:
URL;VALUE=URI:http://www.beta-economics.fr/evenements/seminaire-doctorants-marin-guinard/
TRANSP:OPAQUE
END:VEVENT


END:VCALENDAR
