BEGIN:VCALENDAR
VERSION:2.0
PRODID:-//Beta //NONSGML Events //EN
CALSCALE:GREGORIAN
X-WR-CALNAME:Beta
BEGIN:VEVENT
CREATED:20260114T102730Z
UID:14028
DTSTART;VALUE=DATE-TIME:20260130T140000
DTEND;VALUE=DATE-TIME:20260130T153000
LOCATION:Salle du Conseil // Online - Zoom link
DESCRIPTION:Séminaire Cournot – Julien Wolfesberger (AgroParisTech)
SUMMARY:Séminaire Cournot – Julien Wolfesberger (AgroParisTech)
ORGANIZER:
URL;VALUE=URI:http://www.beta-economics.fr/evenements/seminaire-cournot-julien-wolfesberger-agroparistech/
TRANSP:OPAQUE
END:VEVENT


END:VCALENDAR
