BEGIN:VCALENDAR
VERSION:2.0
PRODID:-//Beta //NONSGML Events //EN
CALSCALE:GREGORIAN
X-WR-CALNAME:Beta
BEGIN:VEVENT
CREATED:20210629T072504Z
UID:3078
DTSTART;VALUE=DATE-TIME:20211001T140000
DTEND;VALUE=DATE-TIME:20211001T153000
LOCATION:PEGE - Salle du Conseil - 61\, avenue de la Forêt Noire  à Strasbourg
DESCRIPTION:Séminaire COURNOT – Sylvie Blasco (Université du Maine, Le Mans)
SUMMARY:Séminaire COURNOT – Sylvie Blasco (Université du Maine, Le Mans)
ORGANIZER:
URL;VALUE=URI:http://www.beta-economics.fr/evenements/seminaire-cournot-sylvie-blasco-universite-du-maine-le-mans/
TRANSP:OPAQUE
END:VEVENT


END:VCALENDAR
