BEGIN:VCALENDAR
VERSION:2.0
PRODID:-//Beta //NONSGML Events //EN
CALSCALE:GREGORIAN
X-WR-CALNAME:Beta
BEGIN:VEVENT
CREATED:20210202T152708Z
UID:3246
DTSTART;VALUE=DATE-TIME:20210208T140000
DTEND;VALUE=DATE-TIME:20210208T170000
LOCATION:En ligne
DESCRIPTION:Soutenance de thèse d’Isabelle Do Santos
SUMMARY:Soutenance de thèse d’Isabelle Do Santos
ORGANIZER:
URL;VALUE=URI:http://www.beta-economics.fr/evenements/soutenance-de-these-disabelle-do-santos/
TRANSP:OPAQUE
END:VEVENT


END:VCALENDAR
