BEGIN:VCALENDAR
VERSION:2.0
PRODID:-//Beta //NONSGML Events //EN
CALSCALE:GREGORIAN
X-WR-CALNAME:Beta
BEGIN:VEVENT
CREATED:20210830T140712Z
UID:3299
DTSTART;VALUE=DATE-TIME:20211005T140000
DTEND;VALUE=DATE-TIME:20211005T150000
LOCATION:Maison de la Recherche 23 rue Baron Louis
DESCRIPTION:Séminaire NANCY – Jean-Philippe Boussemart (LEM)
SUMMARY:Séminaire NANCY – Jean-Philippe Boussemart (LEM)
ORGANIZER:
URL;VALUE=URI:http://www.beta-economics.fr/evenements/seminaire-nancy-jean-philippe-boussemart-lem/
TRANSP:OPAQUE
END:VEVENT


END:VCALENDAR
