BEGIN:VCALENDAR
VERSION:2.0
PRODID:-//Beta //NONSGML Events //EN
CALSCALE:GREGORIAN
X-WR-CALNAME:Beta
BEGIN:VEVENT
CREATED:20211109T153053Z
UID:3730
DTSTART;VALUE=DATE-TIME:20211217T140000
DTEND;VALUE=DATE-TIME:20211217T153000
LOCATION:PEGE - Salle du Conseil - 61\, avenue de la Forêt Noire  à Strasbourg
DESCRIPTION:COURNOT Seminar – Ecem OKAN (Lorraine University)
SUMMARY:COURNOT Seminar – Ecem OKAN (Lorraine University)
ORGANIZER:
URL;VALUE=URI:http://www.beta-economics.fr/evenements/cournot-seminar-ecem-okan-lorraine-university/
TRANSP:OPAQUE
END:VEVENT


END:VCALENDAR
