BEGIN:VCALENDAR
VERSION:2.0
PRODID:-//Beta //NONSGML Events //EN
CALSCALE:GREGORIAN
X-WR-CALNAME:Beta
BEGIN:VEVENT
CREATED:20211217T091737Z
UID:4004
DTSTART;VALUE=DATE-TIME:20220125T110000
DTEND;VALUE=DATE-TIME:20220125T120000
LOCATION:En ligne
DESCRIPTION:Séminaire NANCY – Laurent Ferrara (SKEMA Business School)
SUMMARY:Séminaire NANCY – Laurent Ferrara (SKEMA Business School)
ORGANIZER:
URL;VALUE=URI:http://www.beta-economics.fr/evenements/seminaire-nancy-laurent-ferrara-skema-business-school/
TRANSP:OPAQUE
END:VEVENT


END:VCALENDAR
