BEGIN:VCALENDAR
VERSION:2.0
PRODID:-//Beta //NONSGML Events //EN
CALSCALE:GREGORIAN
X-WR-CALNAME:Beta
BEGIN:VEVENT
CREATED:20221231T124530Z
UID:6535
DTSTART;VALUE=DATE-TIME:20230505T140000
DTEND;VALUE=DATE-TIME:20230505T153000
LOCATION:61 avenue de la Forêt Noire
DESCRIPTION:Séminaire COURNOT – Øivind A. Nilsen (Norwegian School of Economics – NHH)
SUMMARY:Séminaire COURNOT – Øivind A. Nilsen (Norwegian School of Economics – NHH)
ORGANIZER:
URL;VALUE=URI:http://www.beta-economics.fr/evenements/seminaire-cournot-oivind-a-nilsen/
TRANSP:OPAQUE
END:VEVENT


END:VCALENDAR
