BEGIN:VCALENDAR
VERSION:2.0
PRODID:-//Beta //NONSGML Events //EN
CALSCALE:GREGORIAN
X-WR-CALNAME:Beta
BEGIN:VEVENT
CREATED:20230313T090612Z
UID:6926
DTSTART;VALUE=DATE-TIME:20230324T140000
DTEND;VALUE=DATE-TIME:20230324T153000
LOCATION:61 avenue de la Forêt Noire
DESCRIPTION:Séminaire COURNOT – Paul Pezanis-Christou (University of Adelaide)
SUMMARY:Séminaire COURNOT – Paul Pezanis-Christou (University of Adelaide)
ORGANIZER:
URL;VALUE=URI:http://www.beta-economics.fr/evenements/seminaire-cournot-paul-pezanis-christou/
TRANSP:OPAQUE
END:VEVENT


END:VCALENDAR
