BEGIN:VCALENDAR
VERSION:2.0
PRODID:-//Beta //NONSGML Events //EN
CALSCALE:GREGORIAN
X-WR-CALNAME:Beta
BEGIN:VEVENT
CREATED:20240405T114709Z
UID:9774
DTSTART;VALUE=DATE-TIME:20240409T110000
DTEND;VALUE=DATE-TIME:20240409T123000
LOCATION:Maison de la Recherche\, 23 rue Baron Louis\, Nancy
DESCRIPTION:Séminaire NANCY – Sébastien Desbureaux (CEE-M)
SUMMARY:Séminaire NANCY – Sébastien Desbureaux (CEE-M)
ORGANIZER:
URL;VALUE=URI:http://www.beta-economics.fr/evenements/seminaire-nancy-sebastien-desbureaux-cee-m/
TRANSP:OPAQUE
END:VEVENT


END:VCALENDAR
