BEGIN:VCALENDAR
VERSION:2.0
PRODID:-//Beta //NONSGML Events //EN
CALSCALE:GREGORIAN
X-WR-CALNAME:Beta
BEGIN:VEVENT
CREATED:20240829T085904Z
UID:10660
DTSTART;VALUE=DATE-TIME:20241001T140000
DTEND;VALUE=DATE-TIME:20241001T180000
LOCATION:13 Place Carnot – C.O. 700 26 54035 NANCY CEDEX
DESCRIPTION:Léa Munich’s thesis defence
SUMMARY:Léa Munich’s thesis defence
ORGANIZER:
URL;VALUE=URI:https://www.beta-economics.fr/en/evenements/lea-munichs-thesis-defence/
TRANSP:OPAQUE
END:VEVENT


END:VCALENDAR
