BEGIN:VCALENDAR
VERSION:2.0
PRODID:-//Beta //NONSGML Events //EN
CALSCALE:GREGORIAN
X-WR-CALNAME:Beta
BEGIN:VEVENT
CREATED:20241128T204657Z
UID:11469
DTSTART;VALUE=DATE-TIME:20250605T093000
DTEND;VALUE=DATE-TIME:20250605T173000
LOCATION:C2025\, Faculté des sciences économiques et de gestion de Strasbourg\, 61\, avenue de la Forêt Noire\, 67000 Strasbourg
DESCRIPTION:European economic thought on inheritance in the 20th century
SUMMARY:European economic thought on inheritance in the 20th century
ORGANIZER:
URL;VALUE=URI:https://www.beta-economics.fr/en/evenements/european-economic-thought-on-inheritance-in-the-20th-century/
TRANSP:OPAQUE
END:VEVENT


END:VCALENDAR
