BEGIN:VCALENDAR
VERSION:2.0
PRODID:-//Beta //NONSGML Events //EN
CALSCALE:GREGORIAN
X-WR-CALNAME:Beta
BEGIN:VEVENT
CREATED:20250303T092316Z
UID:12232
DTSTART;VALUE=DATE-TIME:20250331T090000
DTEND;VALUE=DATE-TIME:20250404T190000
LOCATION: Les Tanzmatten\, Quai de l'Ill\, 67600 Sélestat
DESCRIPTION:The industry road
SUMMARY:The industry road
ORGANIZER:
URL;VALUE=URI:https://www.beta-economics.fr/en/evenements/the-industry-road/
TRANSP:OPAQUE
END:VEVENT


END:VCALENDAR
