BEGIN:VCALENDAR
VERSION:2.0
PRODID:-//Beta //NONSGML Events //EN
CALSCALE:GREGORIAN
X-WR-CALNAME:Beta
BEGIN:VEVENT
CREATED:20250922T120941Z
UID:13308
DTSTART;VALUE=DATE-TIME:20250926T140000
DTEND;VALUE=DATE-TIME:20250926T153000
LOCATION:Salle du Conseil // Online - Zoom link
DESCRIPTION:Cournot seminar – Robert Kollmann (ULB)
SUMMARY:Cournot seminar – Robert Kollmann (ULB)
ORGANIZER:
URL;VALUE=URI:https://www.beta-economics.fr/en/evenements/cournot-seminar-robert-kollmann-ulb/
TRANSP:OPAQUE
END:VEVENT


END:VCALENDAR
