BEGIN:VCALENDAR
VERSION:2.0
PRODID:-//Beta //NONSGML Events //EN
CALSCALE:GREGORIAN
X-WR-CALNAME:Beta
BEGIN:VEVENT
CREATED:20250923T072607Z
UID:13322
DTSTART;VALUE=DATE-TIME:20250924T140000
DTEND;VALUE=DATE-TIME:20250924T160000
LOCATION:Amphi 2\, Faculté de Droit\, Economie et Administration\, Île du Saulcy\, Metz
DESCRIPTION:Discover careers in economic research!
SUMMARY:Discover careers in economic research!
ORGANIZER:
URL;VALUE=URI:https://www.beta-economics.fr/en/evenements/discover-careers-in-economic-research/
TRANSP:OPAQUE
END:VEVENT


END:VCALENDAR
