BEGIN:VCALENDAR
VERSION:2.0
PRODID:-//Beta //NONSGML Events //EN
CALSCALE:GREGORIAN
X-WR-CALNAME:Beta
BEGIN:VEVENT
CREATED:20251017T083949Z
UID:13453
DTSTART;VALUE=DATE:20260427
DTEND;VALUE=DATE:20260429
LOCATION:Strasbourg
DESCRIPTION:AGeCSO-KCO 2026 conference
SUMMARY:AGeCSO-KCO 2026 conference
ORGANIZER:
URL;VALUE=URI:https://www.beta-economics.fr/en/evenements/agecso-kco-2026-conference/
TRANSP:OPAQUE
END:VEVENT


END:VCALENDAR
