BEGIN:VCALENDAR
VERSION:2.0
PRODID:-//Beta //NONSGML Events //EN
CALSCALE:GREGORIAN
X-WR-CALNAME:Beta
BEGIN:VEVENT
CREATED:20251103T085906Z
UID:13546
DTSTART;VALUE=DATE-TIME:20251104T110000
DTEND;VALUE=DATE-TIME:20251104T123000
LOCATION:Campus AgroParisTech\, 14 rue Girardet\, Nancy
DESCRIPTION:NANCY Seminar – Yannick GABUTHY (BETA)
SUMMARY:NANCY Seminar – Yannick GABUTHY (BETA)
ORGANIZER:
URL;VALUE=URI:https://www.beta-economics.fr/en/evenements/nancy-seminar-yannick-gabuthy-beta/
TRANSP:OPAQUE
END:VEVENT


END:VCALENDAR
