BEGIN:VCALENDAR
VERSION:2.0
PRODID:-//Beta //NONSGML Events //EN
CALSCALE:GREGORIAN
X-WR-CALNAME:Beta
BEGIN:VEVENT
CREATED:20251106T154246Z
UID:13568
DTSTART;VALUE=DATE-TIME:20251128T140000
DTEND;VALUE=DATE-TIME:20251128T153000
LOCATION:Salle du Conseil // Online - Zoom link 
DESCRIPTION:Cournot seminar – Étienne Lorang (BETA, UniStra)
SUMMARY:Cournot seminar – Étienne Lorang (BETA, UniStra)
ORGANIZER:
URL;VALUE=URI:https://www.beta-economics.fr/en/evenements/cournot-seminar-etienne-lale-york-university-of-toronto/
TRANSP:OPAQUE
END:VEVENT


END:VCALENDAR
