BEGIN:VCALENDAR
VERSION:2.0
PRODID:-//Beta //NONSGML Events //EN
CALSCALE:GREGORIAN
X-WR-CALNAME:Beta
BEGIN:VEVENT
CREATED:20251121T091526Z
UID:13704
DTSTART;VALUE=DATE-TIME:20251204T140000
DTEND;VALUE=DATE-TIME:20251204T153000
LOCATION:Salle du Conseil // Online - Zoom link
DESCRIPTION:Cournot seminar – Yannick Slade-Caffarel (PHARE, Paris 1)
SUMMARY:Cournot seminar – Yannick Slade-Caffarel (PHARE, Paris 1)
ORGANIZER:
URL;VALUE=URI:https://www.beta-economics.fr/en/evenements/cournot-seminar-yannick-slade-caffarel-phare-paris-1/
TRANSP:OPAQUE
END:VEVENT


END:VCALENDAR
