BEGIN:VCALENDAR
VERSION:2.0
PRODID:-//Beta //NONSGML Events //EN
CALSCALE:GREGORIAN
X-WR-CALNAME:Beta
BEGIN:VEVENT
CREATED:20251128T111154Z
UID:13772
DTSTART;VALUE=DATE-TIME:20251202T110000
DTEND;VALUE=DATE-TIME:20251202T123000
LOCATION:Maison de la Recherche\, 23 rue Baron Louis\, Nancy
DESCRIPTION:NANCY Seminar – Charlotte SAUCET (Université Paris 1)
SUMMARY:NANCY Seminar – Charlotte SAUCET (Université Paris 1)
ORGANIZER:
URL;VALUE=URI:https://www.beta-economics.fr/en/evenements/nancy-seminar-charlotte-saucet-universite-paris-1/
TRANSP:OPAQUE
END:VEVENT


END:VCALENDAR
