BEGIN:VCALENDAR
VERSION:2.0
PRODID:-//Beta //NONSGML Events //EN
CALSCALE:GREGORIAN
X-WR-CALNAME:Beta
BEGIN:VEVENT
CREATED:20251208T083522Z
UID:13838
DTSTART;VALUE=DATE-TIME:20251209T140000
DTEND;VALUE=DATE-TIME:20251209T153000
LOCATION:Salle du Conseil // Online - Zoom link
DESCRIPTION:Cournot Seminar – Antoine Leblois (CEEM, INRAE)
SUMMARY:Cournot Seminar – Antoine Leblois (CEEM, INRAE)
ORGANIZER:
URL;VALUE=URI:https://www.beta-economics.fr/en/evenements/cournot-seminar-antoine-leblois-ceem-inrae/
TRANSP:OPAQUE
END:VEVENT


END:VCALENDAR
