BEGIN:VCALENDAR
VERSION:2.0
PRODID:-//Beta //NONSGML Events //EN
CALSCALE:GREGORIAN
X-WR-CALNAME:Beta
BEGIN:VEVENT
CREATED:20251212T080537Z
UID:13881
DTSTART;VALUE=DATE-TIME:20251216T110000
DTEND;VALUE=DATE-TIME:20251216T123000
LOCATION:Campus AgroParisTech\, 14 rue Girardet\, Nancy
DESCRIPTION:NANCY Seminar – Zéphirin NGANMENI (Université Paris 8)
SUMMARY:NANCY Seminar – Zéphirin NGANMENI (Université Paris 8)
ORGANIZER:
URL;VALUE=URI:https://www.beta-economics.fr/en/evenements/nancy-seminar-zephirin-nganmeni-universite-paris-8/
TRANSP:OPAQUE
END:VEVENT


END:VCALENDAR
