BEGIN:VCALENDAR
VERSION:2.0
PRODID:-//Beta //NONSGML Events //EN
CALSCALE:GREGORIAN
X-WR-CALNAME:Beta
BEGIN:VEVENT
CREATED:20260302T133521Z
UID:14324
DTSTART;VALUE=DATE-TIME:20260317T140000
DTEND;VALUE=DATE-TIME:20260317T153000
LOCATION:Salle du Conseil // Online - Zoom link
DESCRIPTION:Cournot seminar – Alexandru Minea (LEO, Orléans)
SUMMARY:Cournot seminar – Alexandru Minea (LEO, Orléans)
ORGANIZER:
URL;VALUE=URI:https://www.beta-economics.fr/en/evenements/cournot-seminar-alexandru-minea-leo-orleans/
TRANSP:OPAQUE
END:VEVENT


END:VCALENDAR
