BEGIN:VCALENDAR
VERSION:2.0
PRODID:-//Beta //NONSGML Events //EN
CALSCALE:GREGORIAN
X-WR-CALNAME:Beta
BEGIN:VEVENT
CREATED:20211109T145145Z
UID:3715
DTSTART;VALUE=DATE-TIME:20211116T120000
DTEND;VALUE=DATE-TIME:20211116T133000
LOCATION:En ligne
DESCRIPTION:ERMEES Seminar – Pierre Lesuisse
SUMMARY:ERMEES Seminar – Pierre Lesuisse
ORGANIZER:
URL;VALUE=URI:https://www.beta-economics.fr/en/evenements/ermees-seminar-pierre-lesuisse/
TRANSP:OPAQUE
END:VEVENT


END:VCALENDAR
