BEGIN:VCALENDAR
VERSION:2.0
PRODID:-//Beta //NONSGML Events //EN
CALSCALE:GREGORIAN
X-WR-CALNAME:Beta
BEGIN:VEVENT
CREATED:20230420T151039Z
UID:7552
DTSTART;VALUE=DATE-TIME:20230502T173000
DTEND;VALUE=DATE-TIME:20230502T190000
LOCATION:42 avenue de la Forêt Noire (Maison universitaire France Japon)
DESCRIPTION:Conference – Tetsushi Okumura (Toyo University, Japan)
SUMMARY:Conference – Tetsushi Okumura (Toyo University, Japan)
ORGANIZER:
URL;VALUE=URI:https://www.beta-economics.fr/en/evenements/conference-tetsushi-okumura-toyo-university-japan/
TRANSP:OPAQUE
END:VEVENT


END:VCALENDAR
