BEGIN:VCALENDAR
VERSION:2.0
PRODID:-//Beta //NONSGML Events //EN
CALSCALE:GREGORIAN
X-WR-CALNAME:Beta
BEGIN:VEVENT
CREATED:20230525T093235Z
UID:7652
DTSTART;VALUE=DATE-TIME:20230516T110000
DTEND;VALUE=DATE-TIME:20230516T120000
LOCATION:UMR BETA - Campus AgroParisTech\, 14 rue Girardet (Amphi G)
DESCRIPTION:Nancy Seminar – Walter Briec (UPVD)
SUMMARY:Nancy Seminar – Walter Briec (UPVD)
ORGANIZER:
URL;VALUE=URI:https://www.beta-economics.fr/en/evenements/nancy-seminar-walter-briec-upvd/
TRANSP:OPAQUE
END:VEVENT


END:VCALENDAR
