BEGIN:VCALENDAR
VERSION:2.0
PRODID:-//Beta //NONSGML Events //EN
CALSCALE:GREGORIAN
X-WR-CALNAME:Beta
BEGIN:VEVENT
CREATED:20230526T073752Z
UID:7684
DTSTART;VALUE=DATE-TIME:20230612T140000
DTEND;VALUE=DATE-TIME:20230612T170000
LOCATION:APT (Salle Jacamon 2) 14 rue Girardet 54000 Nancy
DESCRIPTION:Forests, Climate and Society seminar – Miguel Rivière
SUMMARY:Forests, Climate and Society seminar – Miguel Rivière
ORGANIZER:
URL;VALUE=URI:https://www.beta-economics.fr/en/evenements/forests-climate-and-society-seminar-miguel-riviere/
TRANSP:OPAQUE
END:VEVENT


END:VCALENDAR
