BEGIN:VCALENDAR
VERSION:2.0
PRODID:-//Beta //NONSGML Events //EN
CALSCALE:GREGORIAN
X-WR-CALNAME:Beta
BEGIN:VEVENT
CREATED:20230526T100604Z
UID:7687
DTSTART;VALUE=DATE-TIME:20230214T120000
DTEND;VALUE=DATE-TIME:20230214T140000
LOCATION:Campus Unistra
DESCRIPTION:ERMEES Seminar – Sofiene OMRI
SUMMARY:ERMEES Seminar – Sofiene OMRI
ORGANIZER:
URL;VALUE=URI:https://www.beta-economics.fr/en/evenements/ermees-seminar-sofiene-omri/
TRANSP:OPAQUE
END:VEVENT


END:VCALENDAR
