BEGIN:VCALENDAR
VERSION:2.0
PRODID:-//Beta //NONSGML Events //EN
CALSCALE:GREGORIAN
X-WR-CALNAME:Beta
BEGIN:VEVENT
CREATED:20230606T080032Z
UID:7786
DTSTART;VALUE=DATE-TIME:20230614T121500
DTEND;VALUE=DATE-TIME:20230614T134500
LOCATION:61 avenue de la Forêt Noire
DESCRIPTION:SIM Seminar – Peter Tschmuck (University of Music and Performing Arts, Vienne, Autriche)
SUMMARY:SIM Seminar – Peter Tschmuck (University of Music and Performing Arts, Vienne, Autriche)
ORGANIZER:
URL;VALUE=URI:https://www.beta-economics.fr/en/evenements/sim-seminar-peter-tschmuck-university-of-music-and-performing-arts-vienne-autriche/
TRANSP:OPAQUE
END:VEVENT


END:VCALENDAR
