BEGIN:VCALENDAR
VERSION:2.0
PRODID:-//Beta //NONSGML Events //EN
CALSCALE:GREGORIAN
X-WR-CALNAME:Beta
BEGIN:VEVENT
CREATED:20230613T082703Z
UID:7854
DTSTART;VALUE=DATE-TIME:20230615T130000
DTEND;VALUE=DATE-TIME:20230615T140000
LOCATION:Online
DESCRIPTION:Seminar – New technologies and justice / Burkhard Schafer (University of Edinburgh)
SUMMARY:Seminar – New technologies and justice / Burkhard Schafer (University of Edinburgh)
ORGANIZER:
URL;VALUE=URI:https://www.beta-economics.fr/en/evenements/seminar-new-technologies-and-justice-burkhard-schafer-university-of-edinburgh/
TRANSP:OPAQUE
END:VEVENT


END:VCALENDAR
