BEGIN:VCALENDAR
VERSION:2.0
PRODID:-//Beta //NONSGML Events //EN
CALSCALE:GREGORIAN
X-WR-CALNAME:Beta
BEGIN:VEVENT
CREATED:20230614T130602Z
UID:7886
DTSTART;VALUE=DATE-TIME:20230620T143000
DTEND;VALUE=DATE-TIME:20230620T180000
LOCATION:APT (amphi G) 14 rue Girardet 54000 Nancy
DESCRIPTION:Jens ABILDTRUP’s HDR defense
SUMMARY:Jens ABILDTRUP’s HDR defense
ORGANIZER:
URL;VALUE=URI:https://www.beta-economics.fr/en/evenements/jens-abildtrups-hdr-defense/
TRANSP:OPAQUE
END:VEVENT


END:VCALENDAR
