BEGIN:VCALENDAR
VERSION:2.0
PRODID:-//Beta //NONSGML Events //EN
CALSCALE:GREGORIAN
X-WR-CALNAME:Beta
BEGIN:VEVENT
CREATED:20230907T134236Z
UID:8252
DTSTART;VALUE=DATE-TIME:20231016T150000
DTEND;VALUE=DATE-TIME:20231016T170000
LOCATION:Palais universitaire\, salle Pasteur\, 9 place de l'Université à Strasbourg
DESCRIPTION:Organic farming: the challenges and issues of sustainable food production
SUMMARY:Organic farming: the challenges and issues of sustainable food production
ORGANIZER:
URL;VALUE=URI:https://www.beta-economics.fr/en/evenements/organic-farming-the-challenges-and-issues-of-sustainable-food-production/
TRANSP:OPAQUE
END:VEVENT


END:VCALENDAR
