BEGIN:VCALENDAR
VERSION:2.0
PRODID:-//Beta //NONSGML Events //EN
CALSCALE:GREGORIAN
X-WR-CALNAME:Beta
BEGIN:VEVENT
CREATED:20231016T154012Z
UID:8602
DTSTART;VALUE=DATE-TIME:20231020T140000
DTEND;VALUE=DATE-TIME:20231020T153000
LOCATION:Salle du Conseil   // Online - zoom link 
DESCRIPTION:COURNOT Seminar – Jean-Charles GARIBAL (EM Grenoble)
SUMMARY:COURNOT Seminar – Jean-Charles GARIBAL (EM Grenoble)
ORGANIZER:
URL;VALUE=URI:https://www.beta-economics.fr/en/evenements/cournot-seminar-jean-charles-garibal-em-grenoble/
TRANSP:OPAQUE
END:VEVENT


END:VCALENDAR
