BEGIN:VCALENDAR
VERSION:2.0
PRODID:-//Beta //NONSGML Events //EN
CALSCALE:GREGORIAN
X-WR-CALNAME:Beta
BEGIN:VEVENT
CREATED:20240130T151828Z
UID:9378
DTSTART;VALUE=DATE-TIME:20240206T143000
DTEND;VALUE=DATE-TIME:20240206T173000
LOCATION:Salle 205 à la Faculté des Sciences Économiques et de Gestion\, 61 Avenue de la Forêt Noire\, 67000\, Strasbourg
DESCRIPTION:Claude GUITTARD’s HDR defense
SUMMARY:Claude GUITTARD’s HDR defense
ORGANIZER:
URL;VALUE=URI:https://www.beta-economics.fr/en/evenements/claude-guittards-hdr-defense/
TRANSP:OPAQUE
END:VEVENT


END:VCALENDAR
