BEGIN:VCALENDAR
VERSION:2.0
PRODID:-//Beta //NONSGML Events //EN
CALSCALE:GREGORIAN
X-WR-CALNAME:Beta
BEGIN:VEVENT
CREATED:20240827T065603Z
UID:10607
DTSTART;VALUE=DATE-TIME:20240902T123000
DTEND;VALUE=DATE-TIME:20240903T170000
LOCATION:61\, avenue de la Forêt Noire\, 67000 Strasbourg
DESCRIPTION:International Workshop Philipps-Universität – Université de Strasbourg – Toyo University
SUMMARY:International Workshop Philipps-Universität – Université de Strasbourg – Toyo University
ORGANIZER:
URL;VALUE=URI:https://www.beta-economics.fr/evenements/international-workshop-philipps-universitat-universite-de-strasbourg-toyo-university/
TRANSP:OPAQUE
END:VEVENT


END:VCALENDAR
