BEGIN:VCALENDAR
VERSION:2.0
PRODID:-//Beta //NONSGML Events //EN
CALSCALE:GREGORIAN
X-WR-CALNAME:Beta
BEGIN:VEVENT
CREATED:20241128T204223Z
UID:11467
DTSTART;VALUE=DATE-TIME:20250605T093000
DTEND;VALUE=DATE-TIME:20250605T173000
LOCATION:C2025\, Faculté des sciences économiques et de gestion de Strasbourg\, 61\, avenue de la Forêt Noire\, 67000 Strasbourg
DESCRIPTION:Pensées économiques européennes de l’héritage au XXème siècle
SUMMARY:Pensées économiques européennes de l’héritage au XXème siècle
ORGANIZER:
URL;VALUE=URI:https://www.beta-economics.fr/evenements/pensees-economiques-europeennes-de-lheritage-au-xxeme-siecle/
TRANSP:OPAQUE
END:VEVENT


END:VCALENDAR
