BEGIN:VCALENDAR
VERSION:2.0
PRODID:-//Beta //NONSGML Events //EN
CALSCALE:GREGORIAN
X-WR-CALNAME:Beta
BEGIN:VEVENT
CREATED:20250303T091713Z
UID:12229
DTSTART;VALUE=DATE-TIME:20250331T090000
DTEND;VALUE=DATE-TIME:20250404T190000
LOCATION: Les Tanzmatten\, Quai de l'Ill\, 67600 Sélestat
DESCRIPTION:La route de l’industrie
SUMMARY:La route de l’industrie
ORGANIZER:
URL;VALUE=URI:https://www.beta-economics.fr/evenements/la-route-de-lindustrie/
TRANSP:OPAQUE
END:VEVENT


END:VCALENDAR
