BEGIN:VCALENDAR
VERSION:2.0
PRODID:-//Beta //NONSGML Events //EN
CALSCALE:GREGORIAN
X-WR-CALNAME:Beta
BEGIN:VEVENT
CREATED:20250312T155849Z
UID:12329
DTSTART;VALUE=DATE-TIME:20250328T140000
DTEND;VALUE=DATE-TIME:20250328T153000
LOCATION:Salle du Conseil // Online - zoom link
DESCRIPTION:Séminaire Cournot – Adriana Buzdugan (U. d’Etat de Moldavie)
SUMMARY:Séminaire Cournot – Adriana Buzdugan (U. d’Etat de Moldavie)
ORGANIZER:
URL;VALUE=URI:https://www.beta-economics.fr/evenements/seminaire-cournot-adriana-buzdugan-u-detat-de-moldavie/
TRANSP:OPAQUE
END:VEVENT


END:VCALENDAR
