BEGIN:VCALENDAR
VERSION:2.0
PRODID:-//Beta //NONSGML Events //EN
CALSCALE:GREGORIAN
X-WR-CALNAME:Beta
BEGIN:VEVENT
CREATED:20250328T084849Z
UID:12442
DTSTART;VALUE=DATE-TIME:20250331T150000
DTEND;VALUE=DATE-TIME:20250331T163000
LOCATION:Salle du Conseil // Online - zoom link
DESCRIPTION:Séminaire exceptionnel CHPE – Jean Arrous (Professeur honoraire, Université de Strasbourg)
SUMMARY:Séminaire exceptionnel CHPE – Jean Arrous (Professeur honoraire, Université de Strasbourg)
ORGANIZER:
URL;VALUE=URI:https://www.beta-economics.fr/evenements/jean-arrous-professeur-honoraire-deconomie-a-luniversite-de-strasbourg/
TRANSP:OPAQUE
END:VEVENT


END:VCALENDAR
