BEGIN:VCALENDAR
VERSION:2.0
PRODID:-//Beta //NONSGML Events //EN
CALSCALE:GREGORIAN
X-WR-CALNAME:Beta
BEGIN:VEVENT
CREATED:20250402T073234Z
UID:12537
DTSTART;VALUE=DATE-TIME:20250424T163000
DTEND;VALUE=DATE-TIME:20250424T180000
LOCATION:Salle de conférence R106\, Maison de la Recherche\, 23-25 rue Baron Louis\, Nancy
DESCRIPTION:Séminaire Doctorants / Chaire RENEL – Estelle CAMPENET
SUMMARY:Séminaire Doctorants / Chaire RENEL – Estelle CAMPENET
ORGANIZER:
URL;VALUE=URI:https://www.beta-economics.fr/evenements/seminaire-doctorants-chaire-renel-estelle-campenet/
TRANSP:OPAQUE
END:VEVENT


END:VCALENDAR
