BEGIN:VCALENDAR
VERSION:2.0
PRODID:-//Beta //NONSGML Events //EN
CALSCALE:GREGORIAN
X-WR-CALNAME:Beta
BEGIN:VEVENT
CREATED:20250505T062336Z
UID:12710
DTSTART;VALUE=DATE-TIME:20250506T110000
DTEND;VALUE=DATE-TIME:20250506T123000
LOCATION:Campus AgroParisTech\, 14 rue Girardet\, Nancy
DESCRIPTION:Séminaire NANCY – Izabela JELOVAC (CNRS – GATE Lyon)
SUMMARY:Séminaire NANCY – Izabela JELOVAC (CNRS – GATE Lyon)
ORGANIZER:
URL;VALUE=URI:https://www.beta-economics.fr/evenements/seminaire-nancy-izabela-jelovac-cnrs-gate-lyon/
TRANSP:OPAQUE
END:VEVENT


END:VCALENDAR
