BEGIN:VCALENDAR
VERSION:2.0
PRODID:-//Beta //NONSGML Events //EN
CALSCALE:GREGORIAN
X-WR-CALNAME:Beta
BEGIN:VEVENT
CREATED:20250911T074004Z
UID:13233
DTSTART;VALUE=DATE-TIME:20251017T140000
DTEND;VALUE=DATE-TIME:20251017T153000
LOCATION:Salle du Conseil // Online - Zoom link
DESCRIPTION:Séminaire Cournot – Nicolas Frémeaux (U. de Rouen-Normandie)
SUMMARY:Séminaire Cournot – Nicolas Frémeaux (U. de Rouen-Normandie)
ORGANIZER:
URL;VALUE=URI:https://www.beta-economics.fr/evenements/seminaire-cournot-nicolas-fremeaux-u-de-rouen-normandie/
TRANSP:OPAQUE
END:VEVENT


END:VCALENDAR
