BEGIN:VCALENDAR
VERSION:2.0
PRODID:-//Beta //NONSGML Events //EN
CALSCALE:GREGORIAN
X-WR-CALNAME:Beta
BEGIN:VEVENT
CREATED:20250922T120742Z
UID:13307
DTSTART;VALUE=DATE-TIME:20250926T140000
DTEND;VALUE=DATE-TIME:20250926T153000
LOCATION:Salle du Conseil // Online - Zoom link
DESCRIPTION:Séminaire Cournot – Robert Kollmann (ULB)
SUMMARY:Séminaire Cournot – Robert Kollmann (ULB)
ORGANIZER:
URL;VALUE=URI:https://www.beta-economics.fr/evenements/seminaire-cournot-robert-kollmann-ulb/
TRANSP:OPAQUE
END:VEVENT


END:VCALENDAR
