BEGIN:VCALENDAR
VERSION:2.0
PRODID:-//Beta //NONSGML Events //EN
CALSCALE:GREGORIAN
X-WR-CALNAME:Beta
BEGIN:VEVENT
CREATED:20251006T150539Z
UID:13380
DTSTART;VALUE=DATE-TIME:20251121T140000
DTEND;VALUE=DATE-TIME:20251121T153000
LOCATION:Salle du Conseil // Online - Zoom link
DESCRIPTION:Séminaire Cournot – Cindy Lopes-Bento (KU Leuven)
SUMMARY:Séminaire Cournot – Cindy Lopes-Bento (KU Leuven)
ORGANIZER:
URL;VALUE=URI:https://www.beta-economics.fr/evenements/seminaire-cournot-cindy-lopes-bento-ku-leuven/
TRANSP:OPAQUE
END:VEVENT


END:VCALENDAR
