BEGIN:VCALENDAR
VERSION:2.0
PRODID:-//Beta //NONSGML Events //EN
CALSCALE:GREGORIAN
X-WR-CALNAME:Beta
BEGIN:VEVENT
CREATED:20251017T083346Z
UID:13450
DTSTART;VALUE=DATE:20260427
DTEND;VALUE=DATE:20260429
LOCATION:Strasbourg
DESCRIPTION:Colloque AGeCSO-KCO 2026
SUMMARY:Colloque AGeCSO-KCO 2026
ORGANIZER:
URL;VALUE=URI:https://www.beta-economics.fr/evenements/colloque-agecso-kco-2026/
TRANSP:OPAQUE
END:VEVENT


END:VCALENDAR
